Package: genArise Version: 1.85.0 Command: /home/biocbuild/bbs-3.22-bioc/R/bin/R CMD INSTALL genArise StartedAt: 2025-10-06 15:04:20 -0400 (Mon, 06 Oct 2025) EndedAt: 2025-10-06 15:04:47 -0400 (Mon, 06 Oct 2025) EllapsedTime: 26.9 seconds RetCode: 0 Status: OK