Package: genArise Version: 1.85.0 Command: /home/biocbuild/bbs-3.22-bioc/R/bin/R CMD build --keep-empty-dirs --no-resave-data --md5 genArise StartedAt: 2025-10-06 17:44:06 -0400 (Mon, 06 Oct 2025) EndedAt: 2025-10-06 17:44:17 -0400 (Mon, 06 Oct 2025) EllapsedTime: 11.0 seconds RetCode: 0 Status: OK PackageFile: genArise_1.85.0.tar.gz PackageFileSize: 1.026 MiB