Package: gemma.R Version: 3.3.0 Command: E:\biocbuild\bbs-3.21-bioc\R\bin\R.exe CMD INSTALL gemma.R StartedAt: 2025-02-03 16:19:02 -0500 (Mon, 03 Feb 2025) EndedAt: 2025-02-03 16:19:26 -0500 (Mon, 03 Feb 2025) EllapsedTime: 23.8 seconds RetCode: 0 Status: OK