Package: gemma.R Version: 3.3.0 Command: E:\biocbuild\bbs-3.21-bioc\R\bin\R.exe CMD check --no-multiarch --install=check:gemma.R.install-out.txt --library=E:\biocbuild\bbs-3.21-bioc\R\library --no-vignettes --timings gemma.R_3.3.0.tar.gz StartedAt: 2025-02-04 01:48:06 -0500 (Tue, 04 Feb 2025) EndedAt: 2025-02-04 01:56:08 -0500 (Tue, 04 Feb 2025) EllapsedTime: 481.1 seconds RetCode: 0 Status: OK CheckDir: gemma.R.Rcheck Warnings: 0