Package: gemma.R Version: 3.3.0 Command: chmod a+r gemma.R -R && E:\biocbuild\bbs-3.21-bioc\R\bin\R.exe CMD build --keep-empty-dirs --no-resave-data gemma.R StartedAt: 2025-02-03 19:02:38 -0500 (Mon, 03 Feb 2025) EndedAt: 2025-02-03 19:11:03 -0500 (Mon, 03 Feb 2025) EllapsedTime: 505.1 seconds RetCode: 0 Status: OK PackageFile: gemma.R_3.3.0.tar.gz PackageFileSize: 1.7 MiB