Package: gemma.R Version: 3.3.0 Command: /Library/Frameworks/R.framework/Resources/bin/R CMD INSTALL gemma.R StartedAt: 2025-02-03 15:28:35 -0500 (Mon, 03 Feb 2025) EndedAt: 2025-02-03 15:28:42 -0500 (Mon, 03 Feb 2025) EllapsedTime: 7.5 seconds RetCode: 0 Status: OK