Package: gemma.R Version: 3.3.0 Command: /Library/Frameworks/R.framework/Resources/bin/R CMD check --install=check:gemma.R.install-out.txt --library=/Library/Frameworks/R.framework/Resources/library --no-vignettes --timings gemma.R_3.3.0.tar.gz StartedAt: 2025-02-05 20:37:37 -0500 (Wed, 05 Feb 2025) EndedAt: 2025-02-05 20:46:26 -0500 (Wed, 05 Feb 2025) EllapsedTime: 529.1 seconds RetCode: 0 Status: OK CheckDir: gemma.R.Rcheck Warnings: 0