Package: gemma.R Version: 3.3.0 Command: /Library/Frameworks/R.framework/Resources/bin/R CMD build --keep-empty-dirs --no-resave-data gemma.R StartedAt: 2025-02-03 16:51:23 -0500 (Mon, 03 Feb 2025) EndedAt: 2025-02-03 16:56:12 -0500 (Mon, 03 Feb 2025) EllapsedTime: 288.7 seconds RetCode: 0 Status: OK PackageFile: gemma.R_3.3.0.tar.gz PackageFileSize: 2.12 MiB