Package: gemma.R Version: 3.3.0 Command: rm -rf gemma.R.buildbin-libdir && mkdir gemma.R.buildbin-libdir && /Users/biocbuild/BBS/utils/build-universal.sh gemma.R_3.3.0.tar.gz /Library/Frameworks/R.framework/Resources/bin/R gemma.R.buildbin-libdir StartedAt: 2025-02-04 00:35:20 -0500 (Tue, 04 Feb 2025) EndedAt: 2025-02-04 00:35:31 -0500 (Tue, 04 Feb 2025) EllapsedTime: 10.4 seconds RetCode: 0 Status: OK PackageFile: gemma.R_3.3.0.tgz PackageFileSize: 2.286 MiB