Package: gemma.R Version: 3.5.0 Command: /Library/Frameworks/R.framework/Resources/bin/R CMD build --keep-empty-dirs --no-resave-data gemma.R StartedAt: 2025-04-28 16:21:56 -0400 (Mon, 28 Apr 2025) EndedAt: 2025-04-28 16:25:30 -0400 (Mon, 28 Apr 2025) EllapsedTime: 213.3 seconds RetCode: 0 Status: OK PackageFile: gemma.R_3.5.0.tar.gz PackageFileSize: 2.131 MiB