Package: gemini Version: 1.23.0 Maintainer: Sidharth Jain MaintainerEmail: sidharthsjain at gmail.com git_url: https://git.bioconductor.org/packages/gemini git_branch: devel git_last_commit: f15e46e git_last_commit_date: 2025-04-15 11:47:44 -0400 (Tue, 15 Apr 2025)