Package: geNetClassifier Version: 1.49.0 Command: /home/biocbuild/bbs-3.22-bioc/R/bin/R CMD INSTALL geNetClassifier StartedAt: 2025-07-25 18:09:16 -0400 (Fri, 25 Jul 2025) EndedAt: 2025-07-25 18:09:24 -0400 (Fri, 25 Jul 2025) EllapsedTime: 8.2 seconds RetCode: 0 Status: OK