Package: geNetClassifier Version: 1.49.0 Command: /home/biocbuild/bbs-3.22-bioc/R/bin/R CMD check --install=check:geNetClassifier.install-out.txt --library=/home/biocbuild/bbs-3.22-bioc/R/site-library --timings geNetClassifier_1.49.0.tar.gz StartedAt: 2025-10-02 00:25:50 -0400 (Thu, 02 Oct 2025) EndedAt: 2025-10-02 00:26:47 -0400 (Thu, 02 Oct 2025) EllapsedTime: 57.1 seconds RetCode: 0 Status: OK CheckDir: geNetClassifier.Rcheck Warnings: 0