Package: geNetClassifier Version: 1.49.0 Command: /home/biocbuild/bbs-3.22-bioc/R/bin/R CMD build --keep-empty-dirs --no-resave-data --md5 geNetClassifier StartedAt: 2025-07-25 19:34:31 -0400 (Fri, 25 Jul 2025) EndedAt: 2025-07-25 19:34:48 -0400 (Fri, 25 Jul 2025) EllapsedTime: 17.0 seconds RetCode: 0 Status: OK PackageFile: geNetClassifier_1.49.0.tar.gz PackageFileSize: 3.941 MiB