Package: geNetClassifier Version: 1.49.0 Command: /Library/Frameworks/R.framework/Resources/bin/R CMD INSTALL geNetClassifier StartedAt: 2025-05-18 15:15:46 -0400 (Sun, 18 May 2025) EndedAt: 2025-05-18 15:16:00 -0400 (Sun, 18 May 2025) EllapsedTime: 14.5 seconds RetCode: 0 Status: OK