Package: geNetClassifier Version: 1.49.0 Command: /Library/Frameworks/R.framework/Resources/bin/R CMD check --install=check:geNetClassifier.install-out.txt --library=/Library/Frameworks/R.framework/Resources/library --no-vignettes --timings geNetClassifier_1.49.0.tar.gz StartedAt: 2025-05-20 20:39:56 -0400 (Tue, 20 May 2025) EndedAt: 2025-05-20 20:41:22 -0400 (Tue, 20 May 2025) EllapsedTime: 85.4 seconds RetCode: 0 Status: OK CheckDir: geNetClassifier.Rcheck Warnings: 0