Package: geNetClassifier Version: 1.49.0 Command: /Library/Frameworks/R.framework/Resources/bin/R CMD build --keep-empty-dirs --no-resave-data geNetClassifier StartedAt: 2025-05-20 16:50:55 -0400 (Tue, 20 May 2025) EndedAt: 2025-05-20 16:51:17 -0400 (Tue, 20 May 2025) EllapsedTime: 21.8 seconds RetCode: 0 Status: OK PackageFile: geNetClassifier_1.49.0.tar.gz PackageFileSize: 3.939 MiB