Package: geNetClassifier Version: 1.49.0 Command: /Library/Frameworks/R.framework/Resources/bin/R CMD check --install=check:geNetClassifier.install-out.txt --library=/Library/Frameworks/R.framework/Resources/library --no-vignettes --timings geNetClassifier_1.49.0.tar.gz StartedAt: 2025-05-22 19:53:41 -0400 (Thu, 22 May 2025) EndedAt: 2025-05-22 19:54:10 -0400 (Thu, 22 May 2025) EllapsedTime: 29.4 seconds RetCode: 0 Status: OK CheckDir: geNetClassifier.Rcheck Warnings: 0