Package: geNetClassifier Version: 1.49.0 Command: /Library/Frameworks/R.framework/Resources/bin/R CMD build --keep-empty-dirs --no-resave-data geNetClassifier StartedAt: 2025-05-22 16:20:51 -0400 (Thu, 22 May 2025) EndedAt: 2025-05-22 16:21:00 -0400 (Thu, 22 May 2025) EllapsedTime: 9.1 seconds RetCode: 0 Status: OK PackageFile: geNetClassifier_1.49.0.tar.gz PackageFileSize: 3.94 MiB