Package: gdsfmt Version: 1.45.1 Command: rm -rf gdsfmt.buildbin-libdir && mkdir gdsfmt.buildbin-libdir && F:\biocbuild\bbs-3.22-bioc\R\bin\R.exe CMD INSTALL --build --library=gdsfmt.buildbin-libdir gdsfmt_1.45.1.tar.gz StartedAt: 2025-08-15 10:19:18 -0400 (Fri, 15 Aug 2025) EndedAt: 2025-08-15 10:24:01 -0400 (Fri, 15 Aug 2025) EllapsedTime: 283.0 seconds RetCode: 0 Status: OK PackageFile: gdsfmt_1.45.1.zip PackageFileSize: 1.837 MiB