Package: gdsfmt Version: 1.43.1 Command: E:\biocbuild\bbs-3.21-bioc\R\bin\R.exe CMD check --no-multiarch --install=check:gdsfmt.install-out.txt --library=E:\biocbuild\bbs-3.21-bioc\R\library --no-vignettes --timings gdsfmt_1.43.1.tar.gz StartedAt: 2025-02-06 01:49:37 -0500 (Thu, 06 Feb 2025) EndedAt: 2025-02-06 01:53:59 -0500 (Thu, 06 Feb 2025) EllapsedTime: 262.7 seconds RetCode: 0 Status: OK CheckDir: gdsfmt.Rcheck Warnings: 0