Package: gdsfmt Version: 1.43.1 Command: chmod a+r gdsfmt -R && E:\biocbuild\bbs-3.21-bioc\R\bin\R.exe CMD build --keep-empty-dirs --no-resave-data gdsfmt StartedAt: 2025-02-05 18:54:52 -0500 (Wed, 05 Feb 2025) EndedAt: 2025-02-05 18:59:06 -0500 (Wed, 05 Feb 2025) EllapsedTime: 254.3 seconds RetCode: 0 Status: OK PackageFile: gdsfmt_1.43.1.tar.gz PackageFileSize: 2.967 MiB