Package: gdsfmt Version: 1.43.1 Command: /home/biocbuild/bbs-3.21-bioc/R/bin/R CMD INSTALL gdsfmt StartedAt: 2025-02-03 15:12:31 -0500 (Mon, 03 Feb 2025) EndedAt: 2025-02-03 15:16:20 -0500 (Mon, 03 Feb 2025) EllapsedTime: 228.6 seconds RetCode: 0 Status: OK