Package: gdsfmt Version: 1.43.1 Command: /home/biocbuild/R/R/bin/R CMD INSTALL gdsfmt StartedAt: 2025-01-29 19:29:44 -0000 (Wed, 29 Jan 2025) EndedAt: 2025-01-29 19:35:13 -0000 (Wed, 29 Jan 2025) EllapsedTime: 329.1 seconds RetCode: 0 Status: OK