Package: gcrma Version: 2.79.0 Command: E:\biocbuild\bbs-3.21-bioc\R\bin\R.exe CMD check --no-multiarch --install=check:gcrma.install-out.txt --library=E:\biocbuild\bbs-3.21-bioc\R\library --no-vignettes --timings gcrma_2.79.0.tar.gz StartedAt: 2025-02-06 01:47:28 -0500 (Thu, 06 Feb 2025) EndedAt: 2025-02-06 01:49:35 -0500 (Thu, 06 Feb 2025) EllapsedTime: 127.6 seconds RetCode: 0 Status: OK CheckDir: gcrma.Rcheck Warnings: 0