Package: gcrma Version: 2.79.0 Command: chmod a+r gcrma -R && E:\biocbuild\bbs-3.21-bioc\R\bin\R.exe CMD build --keep-empty-dirs --no-resave-data gcrma StartedAt: 2025-02-02 18:44:45 -0500 (Sun, 02 Feb 2025) EndedAt: 2025-02-02 18:45:13 -0500 (Sun, 02 Feb 2025) EllapsedTime: 27.9 seconds RetCode: 0 Status: OK PackageFile: gcrma_2.79.0.tar.gz PackageFileSize: 149.7 KiB