Package: gcrma Version: 2.81.0 Command: /home/biocbuild/bbs-3.22-bioc/R/bin/R CMD INSTALL gcrma StartedAt: 2025-10-13 15:17:46 -0400 (Mon, 13 Oct 2025) EndedAt: 2025-10-13 15:17:56 -0400 (Mon, 13 Oct 2025) EllapsedTime: 10.4 seconds RetCode: 0 Status: OK