Package: gcrma Version: 2.79.0 Command: /Library/Frameworks/R.framework/Resources/bin/R CMD build --keep-empty-dirs --no-resave-data gcrma StartedAt: 2025-02-03 16:59:22 -0500 (Mon, 03 Feb 2025) EndedAt: 2025-02-03 16:59:30 -0500 (Mon, 03 Feb 2025) EllapsedTime: 8.1 seconds RetCode: 0 Status: OK PackageFile: gcrma_2.79.0.tar.gz PackageFileSize: 288.9 KiB