Package: gcatest Version: 2.7.0 Command: /home/biocbuild/bbs-3.21-bioc/R/bin/R CMD check --install=check:gcatest.install-out.txt --library=/home/biocbuild/bbs-3.21-bioc/R/site-library --timings gcatest_2.7.0.tar.gz StartedAt: 2025-02-05 22:30:24 -0500 (Wed, 05 Feb 2025) EndedAt: 2025-02-05 22:31:14 -0500 (Wed, 05 Feb 2025) EllapsedTime: 50.1 seconds RetCode: 0 Status: OK CheckDir: gcatest.Rcheck Warnings: 0