Package: gcatest Version: 2.7.0 Command: /Library/Frameworks/R.framework/Resources/bin/R CMD INSTALL gcatest StartedAt: 2025-02-04 15:02:30 -0500 (Tue, 04 Feb 2025) EndedAt: 2025-02-04 15:02:37 -0500 (Tue, 04 Feb 2025) EllapsedTime: 6.7 seconds RetCode: 0 Status: OK