Package: gcatest Version: 2.7.0 Command: /Library/Frameworks/R.framework/Resources/bin/R CMD build --keep-empty-dirs --no-resave-data gcatest StartedAt: 2025-02-04 16:22:59 -0500 (Tue, 04 Feb 2025) EndedAt: 2025-02-04 16:23:12 -0500 (Tue, 04 Feb 2025) EllapsedTime: 13.1 seconds RetCode: 0 Status: OK PackageFile: gcatest_2.7.0.tar.gz PackageFileSize: 2.147 MiB