Package: gcapc Version: 1.31.0 Command: /home/biocbuild/R/R/bin/R CMD build --keep-empty-dirs --no-resave-data gcapc StartedAt: 2025-01-28 23:00:55 -0000 (Tue, 28 Jan 2025) EndedAt: 2025-01-28 23:05:56 -0000 (Tue, 28 Jan 2025) EllapsedTime: 300.1 seconds RetCode: 0 Status: OK PackageFile: gcapc_1.31.0.tar.gz PackageFileSize: 3.682 MiB