Package: gatom Version: 1.7.0 Command: rm -rf gatom.buildbin-libdir && mkdir gatom.buildbin-libdir && F:\biocbuild\bbs-3.22-bioc\R\bin\R.exe CMD INSTALL --build --library=gatom.buildbin-libdir gatom_1.7.0.tar.gz StartedAt: 2025-08-15 10:18:36 -0400 (Fri, 15 Aug 2025) EndedAt: 2025-08-15 10:19:06 -0400 (Fri, 15 Aug 2025) EllapsedTime: 29.8 seconds RetCode: 0 Status: OK PackageFile: gatom_1.7.0.zip PackageFileSize: 1.783 MiB