Package: gatom Version: 1.5.0 Command: chmod a+r gatom -R && E:\biocbuild\bbs-3.21-bioc\R\bin\R.exe CMD build --keep-empty-dirs --no-resave-data gatom StartedAt: 2025-02-19 18:50:17 -0500 (Wed, 19 Feb 2025) EndedAt: 2025-02-19 18:58:49 -0500 (Wed, 19 Feb 2025) EllapsedTime: 512.0 seconds RetCode: 0 Status: OK PackageFile: gatom_1.5.0.tar.gz PackageFileSize: 1.609 MiB