Package: gatom Version: 1.5.0 Command: rm -rf gatom.buildbin-libdir && mkdir gatom.buildbin-libdir && E:\biocbuild\bbs-3.21-bioc\R\bin\R.exe CMD INSTALL --build --library=gatom.buildbin-libdir gatom_1.5.0.tar.gz StartedAt: 2025-02-20 07:49:37 -0500 (Thu, 20 Feb 2025) EndedAt: 2025-02-20 07:50:07 -0500 (Thu, 20 Feb 2025) EllapsedTime: 29.9 seconds RetCode: 0 Status: OK PackageFile: gatom_1.5.0.zip PackageFileSize: 1.783 MiB