Package: garfield Version: 1.37.0 Command: chmod a+r garfield -R && F:\biocbuild\bbs-3.22-bioc\R\bin\R.exe CMD build --keep-empty-dirs --no-resave-data garfield StartedAt: 2025-08-14 20:20:19 -0400 (Thu, 14 Aug 2025) EndedAt: 2025-08-14 20:20:38 -0400 (Thu, 14 Aug 2025) EllapsedTime: 19.6 seconds RetCode: 0 Status: OK PackageFile: garfield_1.37.0.tar.gz PackageFileSize: 305.6 KiB