Package: garfield Version: 1.37.0 Command: /home/biocbuild/bbs-3.22-bioc/R/bin/R CMD INSTALL garfield StartedAt: 2025-10-10 15:14:27 -0400 (Fri, 10 Oct 2025) EndedAt: 2025-10-10 15:14:41 -0400 (Fri, 10 Oct 2025) EllapsedTime: 13.5 seconds RetCode: 0 Status: OK