Package: gage Version: 2.59.0 Command: /home/biocbuild/R/R/bin/R CMD build --keep-empty-dirs --no-resave-data gage StartedAt: 2025-10-03 00:03:48 -0000 (Fri, 03 Oct 2025) EndedAt: 2025-10-03 00:06:23 -0000 (Fri, 03 Oct 2025) EllapsedTime: 155.1 seconds RetCode: 0 Status: OK PackageFile: gage_2.59.0.tar.gz PackageFileSize: 4.315 MiB