Package: gage Version: 2.59.0 Command: chmod a+r gage -R && F:\biocbuild\bbs-3.22-bioc\R\bin\R.exe CMD build --keep-empty-dirs --no-resave-data gage StartedAt: 2025-08-14 20:19:49 -0400 (Thu, 14 Aug 2025) EndedAt: 2025-08-14 20:23:21 -0400 (Thu, 14 Aug 2025) EllapsedTime: 212.0 seconds RetCode: 0 Status: OK PackageFile: gage_2.59.0.tar.gz PackageFileSize: 4.296 MiB