Package: gaga Version: 2.55.0 Command: /home/biocbuild/bbs-3.22-bioc/R/bin/R CMD build --keep-empty-dirs --no-resave-data --md5 gaga StartedAt: 2025-10-15 17:49:24 -0400 (Wed, 15 Oct 2025) EndedAt: 2025-10-15 17:49:46 -0400 (Wed, 15 Oct 2025) EllapsedTime: 22.0 seconds RetCode: 0 Status: OK PackageFile: gaga_2.55.0.tar.gz PackageFileSize: 571.4 KiB