Package: gVenn Version: 0.99.1 Command: /home/biocbuild/bbs-3.22-bioc/R/bin/R CMD INSTALL gVenn StartedAt: 2025-10-06 15:14:53 -0400 (Mon, 06 Oct 2025) EndedAt: 2025-10-06 15:14:55 -0400 (Mon, 06 Oct 2025) EllapsedTime: 2.1 seconds RetCode: 0 Status: OK