Package: gVenn Version: 1.1.0 Command: /home/biocbuild/bbs-3.23-bioc/R/bin/R CMD INSTALL gVenn StartedAt: 2025-11-26 15:26:57 -0500 (Wed, 26 Nov 2025) EndedAt: 2025-11-26 15:26:59 -0500 (Wed, 26 Nov 2025) EllapsedTime: 2.1 seconds RetCode: 0 Status: OK