Package: gVenn Version: 1.1.0 Command: /home/biocbuild/bbs-3.23-bioc/R/bin/R CMD build --keep-empty-dirs --no-resave-data gVenn StartedAt: 2025-11-26 17:59:46 -0500 (Wed, 26 Nov 2025) EndedAt: 2025-11-26 18:00:02 -0500 (Wed, 26 Nov 2025) EllapsedTime: 16.0 seconds RetCode: 0 Status: OK PackageFile: gVenn_1.1.0.tar.gz PackageFileSize: 2 MiB