Package: gVenn Version: 1.1.0 Command: /Library/Frameworks/R.framework/Resources/bin/R CMD INSTALL gVenn StartedAt: 2025-11-16 15:16:45 -0500 (Sun, 16 Nov 2025) EndedAt: 2025-11-16 15:16:46 -0500 (Sun, 16 Nov 2025) EllapsedTime: 1.1 seconds RetCode: 0 Status: OK