Package: gVenn Version: 1.1.0 Command: /Library/Frameworks/R.framework/Resources/bin/R CMD build --keep-empty-dirs --no-resave-data gVenn StartedAt: 2025-11-16 16:35:52 -0500 (Sun, 16 Nov 2025) EndedAt: 2025-11-16 16:35:59 -0500 (Sun, 16 Nov 2025) EllapsedTime: 7.1 seconds RetCode: 0 Status: OK PackageFile: gVenn_1.1.0.tar.gz PackageFileSize: 2.233 MiB