Package: gVenn Version: 1.1.0 Command: rm -rf gVenn.buildbin-libdir && mkdir gVenn.buildbin-libdir && /Users/biocbuild/BBS/utils/build-universal.sh gVenn_1.1.0.tar.gz /Library/Frameworks/R.framework/Resources/bin/R gVenn.buildbin-libdir StartedAt: 2025-11-16 23:36:59 -0500 (Sun, 16 Nov 2025) EndedAt: 2025-11-16 23:37:01 -0500 (Sun, 16 Nov 2025) EllapsedTime: 2.1 seconds RetCode: 0 Status: OK PackageFile: gVenn_1.1.0.tgz PackageFileSize: 2.008 MiB