Package: gINTomics Version: 1.3.0 Command: /Library/Frameworks/R.framework/Resources/bin/R CMD check --install=check:gINTomics.install-out.txt --library=/Library/Frameworks/R.framework/Resources/library --no-vignettes --timings gINTomics_1.3.0.tar.gz StartedAt: 2025-01-10 20:47:16 -0500 (Fri, 10 Jan 2025) EndedAt: 2025-01-10 20:57:02 -0500 (Fri, 10 Jan 2025) EllapsedTime: 585.8 seconds RetCode: 0 Status: OK CheckDir: gINTomics.Rcheck Warnings: 0