Package: gDRutils Version: 1.7.16 Command: rm -rf gDRutils.buildbin-libdir && mkdir gDRutils.buildbin-libdir && F:\biocbuild\bbs-3.22-bioc\R\bin\R.exe CMD INSTALL --build --library=gDRutils.buildbin-libdir gDRutils_1.7.16.tar.gz StartedAt: 2025-08-15 10:19:10 -0400 (Fri, 15 Aug 2025) EndedAt: 2025-08-15 10:20:34 -0400 (Fri, 15 Aug 2025) EllapsedTime: 83.9 seconds RetCode: 0 Status: OK PackageFile: gDRutils_1.7.16.zip PackageFileSize: 684.1 KiB