Package: gDRstyle Version: 1.5.2 Command: E:\biocbuild\bbs-3.21-bioc\R\bin\R.exe CMD INSTALL gDRstyle StartedAt: 2025-02-02 15:36:11 -0500 (Sun, 02 Feb 2025) EndedAt: 2025-02-02 15:36:30 -0500 (Sun, 02 Feb 2025) EllapsedTime: 18.8 seconds RetCode: 0 Status: OK