Package: gDRstyle Version: 1.7.1 Command: /Library/Frameworks/R.framework/Resources/bin/R CMD check --install=check:gDRstyle.install-out.txt --library=/Library/Frameworks/R.framework/Resources/library --no-vignettes --timings gDRstyle_1.7.1.tar.gz StartedAt: 2025-05-07 20:46:18 -0400 (Wed, 07 May 2025) EndedAt: 2025-05-07 20:47:52 -0400 (Wed, 07 May 2025) EllapsedTime: 93.9 seconds RetCode: 0 Status: OK CheckDir: gDRstyle.Rcheck Warnings: 0